{
 "currentVersion": 11.1,
 "serviceDescription": "OHELP_M9p0/M90_00_IMM",
 "name": "OHELP_M9p0/M90_00_IMM",
 "description": "",
 "extent": {
  "xmin": 69093.708465,
  "ymin": -273562.79875300033,
  "xmax": 2555563.3084650002,
  "ymax": 1945062.001247,
  "spatialReference": {
   "wkid": 102970,
   "latestWkid": 6557
  }
 },
 "initialExtent": {
  "xmin": 69093.708465,
  "ymin": -273562.79875300033,
  "xmax": 2555563.3084650002,
  "ymax": 1945062.001247,
  "spatialReference": {
   "wkid": 102970,
   "latestWkid": 6557
  }
 },
 "fullExtent": {
  "xmin": 69093.708465,
  "ymin": -273562.79875300033,
  "xmax": 2555563.3084650002,
  "ymax": 1945062.001247,
  "spatialReference": {
   "wkid": 102970,
   "latestWkid": 6557
  }
 },
 "sortableFields": "",
 "bandCount": 1,
 "pixelType": "F32",
 "minValues": [
  2.990607976913452
 ],
 "maxValues": [
  8.022722244262695
 ],
 "meanValues": [
  4.96065849317156
 ],
 "stdvValues": [
  1.3379489255934007
 ],
 "hasMultidimensions": false,
 "pixelSizeX": 98.4,
 "pixelSizeY": 98.4,
 "datasetFormat": "FGDBR",
 "uncompressedSize": 2278960572,
 "blockWidth": 128,
 "blockHeight": 128,
 "compressionType": "LZ77",
 "bandNames": [
  "Band_1"
 ],
 "allowCopy": true,
 "allowAnalysis": true,
 "itemAccess": false,
 "minPixelSize": 0,
 "maxPixelSize": 0,
 "copyrightText": "",
 "serviceDataType": "esriImageServiceDataTypeGeneric",
 "serviceSourceType": "esriImageServiceSourceTypeDataset",
 "objectIdField": "",
 "fields": [],
 "capabilities": "Mensuration,Image,Metadata",
 "defaultMosaicMethod": "Center",
 "allowedMosaicMethods": "",
 "sortField": "",
 "sortValue": null,
 "sortAscending": true,
 "mosaicOperator": "First",
 "defaultCompressionQuality": 75,
 "defaultResamplingMethod": "Bilinear",
 "maxImageHeight": 4100,
 "maxImageWidth": 15000,
 "allowRasterFunction": true,
 "rasterFunctionInfos": [
  {
   "name": "None",
   "description": "",
   "help": ""
  }
 ],
 "rasterTypeInfos": [
  {
   "name": "Raster Dataset",
   "description": "Supports all ArcGIS Raster Datasets",
   "help": ""
  }
 ],
 "mensurationCapabilities": "Basic",
 "hasHistograms": true,
 "hasColormap": false,
 "hasRasterAttributeTable": false,
 "minScale": 0,
 "maxScale": 0,
 "exportTilesAllowed": false,
 "supportsStatistics": false,
 "supportsAdvancedQueries": false,
 "editFieldsInfo": null,
 "ownershipBasedAccessControlForRasters": null,
 "allowComputeTiePoints": false,
 "useStandardizedQueries": true,
 "advancedQueryCapabilities": {
  "useStandardizedQueries": true,
  "supportsStatistics": false,
  "supportsOrderBy": false,
  "supportsDistinct": false,
  "supportsPagination": false
 },
 "spatialReference": {
  "wkid": 102970,
  "latestWkid": 6557
 }
}
