View In:
ArcGIS JavaScript
ArcGIS Online Map Viewer
ArcGIS Earth
Service Description: OHELP_M9p0/M90_04_SA1p0_Soil
Name: OHELP_M9p0/M90_04_SA1p0_Soil
Description:
Single Fused Map Cache: false
Extent:
XMin: 69093.708465
YMin: -273562.79875300033
XMax: 2555563.3084650002
YMax: 1945062.001247
Spatial Reference: 102970
(6557)
LatestVCSWkid(0)
Initial Extent:
XMin: 69093.708465
YMin: -273562.79875300033
XMax: 2555563.3084650002
YMax: 1945062.001247
Spatial Reference: 102970
(6557)
LatestVCSWkid(0)
Full Extent:
XMin: 69093.708465
YMin: -273562.79875300033
XMax: 2555563.3084650002
YMax: 1945062.001247
Spatial Reference: 102970
(6557)
LatestVCSWkid(0)
Pixel Size X: 98.4
Pixel Size Y: 98.4
Band Count: 1
Pixel Type: F32
RasterFunction Infos: {"rasterFunctionInfos": [{
"name": "None",
"description": "",
"help": ""
}]}
Mensuration Capabilities: Basic
Has Histograms: true
Has Colormap: false
Has Multi Dimensions : false
Rendering Rule:
Min Scale: 0
Max Scale: 0
Copyright Text:
Service Data Type: esriImageServiceDataTypeGeneric
Min Values: 0.01714734360575676
Max Values: 0.6835450530052185
Mean Values: 0.11635667465270329
Standard Deviation Values: 0.1142094430563536
Object ID Field:
Fields:
None
Default Mosaic Method: Center
Allowed Mosaic Methods:
SortField:
SortValue: null
Mosaic Operator: First
Default Compression Quality: 75
Default Resampling Method: Bilinear
Max Record Count: null
Max Image Height: 4100
Max Image Width: 15000
Max Download Image Count: null
Max Mosaic Image Count: null
Allow Raster Function: true
Allow Copy: true
Allow Analysis: true
Allow Compute TiePoints: false
Supports Statistics: false
Supports Advanced Queries: false
Use StandardizedQueries: true
Raster Type Infos:
Name: Raster Dataset
Description: Supports all ArcGIS Raster Datasets
Help:
Has Raster Attribute Table: false
Edit Fields Info: null
Ownership Based AccessControl For Rasters: null
Child Resources:
Info
Histograms
Statistics
Key Properties
Legend
Raster Function Infos
Supported Operations:
Export Image
Identify
Measure
Compute Histograms
Compute Statistics Histograms
Get Samples
Compute Class Statistics
Query Boundary
Compute Pixel Location
Compute Angles
Validate
Project